BEGIN:VCALENDAR
VERSION:2.0
PRODID:-//Prayer Requests - ECPv6.15.12.2//NONSGML v1.0//EN
CALSCALE:GREGORIAN
METHOD:PUBLISH
X-ORIGINAL-URL:https://weneedprayer.com/prayerrequests
X-WR-CALDESC:Events for Prayer Requests
REFRESH-INTERVAL;VALUE=DURATION:PT1H
X-Robots-Tag:noindex
X-PUBLISHED-TTL:PT1H
BEGIN:VTIMEZONE
TZID:Asia/Karachi
BEGIN:STANDARD
TZOFFSETFROM:+0500
TZOFFSETTO:+0500
TZNAME:PKT
DTSTART:20220101T000000
END:STANDARD
END:VTIMEZONE
BEGIN:VTIMEZONE
TZID:UTC
BEGIN:STANDARD
TZOFFSETFROM:+0000
TZOFFSETTO:+0000
TZNAME:UTC
DTSTART:20220101T000000
END:STANDARD
END:VTIMEZONE
BEGIN:VEVENT
DTSTART;TZID=Asia/Karachi:20240125T170000
DTEND;TZID=Asia/Karachi:20240125T190000
DTSTAMP:20260421T203131
CREATED:20230801T161633Z
LAST-MODIFIED:20230801T161633Z
UID:543-1706202000-1706209200@weneedprayer.com
SUMMARY:We Need Prayer Ministry Meetup for Prayer
DESCRIPTION:Join us at Lady Bird Johnson Park for an ongoing Public Prayer Ministry where we will be specifically focusing\non pre determined needs for prayer in the world\, as well as any special prayer intentions that you may have. \nWe will be praying for: Focus Topics of Prayer are TBD \nSo if you or someone you know is troubled\, lacking\, or has some room for improvement in these areas\,\nthen come by and hangout with us for a nice little outdoor time of prayer and worship. \nWe will be somewhere in the parking lot outside the Hamilton Community Center\nYou can contact us Here\, Here\, or Here for more information.
URL:https://weneedprayer.com/prayerrequests/event/we-need-prayer-ministry-meetup-for-prayer-6/
LOCATION:Lady Bird Johnson Park\, 10700 Nacogdoches Rd.\, San Antonio\, TX\, 78217\, United States
ATTACH;FMTTYPE=image/jpeg:https://weneedprayer.com/prayerrequests/wp-content/uploads/2023/07/Event-Listing-Image.jpg
ORGANIZER;CN="Edmund Olszewski":MAILTO:info@weneedprayer.com
END:VEVENT
BEGIN:VEVENT
DTSTART;TZID=Asia/Karachi:20240118T190000
DTEND;TZID=Asia/Karachi:20240118T200000
DTSTAMP:20260421T203131
CREATED:20230805T150715Z
LAST-MODIFIED:20230805T150715Z
UID:822-1705604400-1705608000@weneedprayer.com
SUMMARY:Restore Praise and Worship Night
DESCRIPTION:Join us for Adoration with music and meditation every third Thursday from 7-8PM in the church. \nRepeats every third Thursday of the month\nLocation: St. Matthew Catholic Church
URL:https://weneedprayer.com/prayerrequests/event/restore-praise-and-worship-night-6/
LOCATION:St. Matthew\, 10703 Wurzbach Rd.\, San Antonio\, TX\, 78230\, United States
ATTACH;FMTTYPE=image/jpeg:https://weneedprayer.com/prayerrequests/wp-content/uploads/2023/08/Stt-Matthew-man-pray.jpg
END:VEVENT
BEGIN:VEVENT
DTSTART;TZID=Asia/Karachi:20240115T190000
DTEND;TZID=Asia/Karachi:20240115T200000
DTSTAMP:20260421T203131
CREATED:20230804T225604Z
LAST-MODIFIED:20230804T225604Z
UID:780-1705345200-1705348800@weneedprayer.com
SUMMARY:Spanish Prayer Group Meeting
DESCRIPTION:Every 1st and 3rd MONDAY Fr. Paul Melgarejo\, Deacons Vela and Guzman HOLY HOUR IN “SPANISH” from 7 to 8 PM. EVERYONE IS WELCOME! Call Mrs. Rosario Esquivel at (210) 966-5342 for any questions.\nhttps://stmatts.org/events/spanish-prayer-group-meeting
URL:https://weneedprayer.com/prayerrequests/event/spanish-prayer-group-meeting-12/
LOCATION:St. Matthew\, 10703 Wurzbach Rd.\, San Antonio\, TX\, 78230\, United States
ATTACH;FMTTYPE=image/jpeg:https://weneedprayer.com/prayerrequests/wp-content/uploads/2023/08/Spanish-Prayer-Group.jpg
END:VEVENT
BEGIN:VEVENT
DTSTART;TZID=Asia/Karachi:20240102T190000
DTEND;TZID=Asia/Karachi:20240102T200000
DTSTAMP:20260421T203131
CREATED:20230731T215257Z
LAST-MODIFIED:20230731T215257Z
UID:502-1704222000-1704225600@weneedprayer.com
SUMMARY:Monthly Prayer Gathering
DESCRIPTION:Join us for a monthly prayer gathering. For more details\, or to sign up to be a part of our prayer team\, head to this link- \nhttps://stoneoakbible.churchcenter.com/unproxy/groups/unique/prayer-team
URL:https://weneedprayer.com/prayerrequests/event/monthly-prayer-gathering-6/
LOCATION:Stone Oak Bile Church\, 27214 Salt St\, San Antonio\, TX\, 78260\, United States
ATTACH;FMTTYPE=image/jpeg:https://weneedprayer.com/prayerrequests/wp-content/uploads/2023/07/Stone-Oak-Bible-Church.jpg
END:VEVENT
BEGIN:VEVENT
DTSTART;TZID=Asia/Karachi:20240101T190000
DTEND;TZID=Asia/Karachi:20240101T200000
DTSTAMP:20260421T203131
CREATED:20230804T225546Z
LAST-MODIFIED:20230804T225546Z
UID:779-1704135600-1704139200@weneedprayer.com
SUMMARY:Spanish Prayer Group Meeting
DESCRIPTION:Every 1st and 3rd MONDAY Fr. Paul Melgarejo\, Deacons Vela and Guzman HOLY HOUR IN “SPANISH” from 7 to 8 PM. EVERYONE IS WELCOME! Call Mrs. Rosario Esquivel at (210) 966-5342 for any questions.\nhttps://stmatts.org/events/spanish-prayer-group-meeting
URL:https://weneedprayer.com/prayerrequests/event/spanish-prayer-group-meeting-11/
LOCATION:St. Matthew\, 10703 Wurzbach Rd.\, San Antonio\, TX\, 78230\, United States
ATTACH;FMTTYPE=image/jpeg:https://weneedprayer.com/prayerrequests/wp-content/uploads/2023/08/Spanish-Prayer-Group.jpg
END:VEVENT
BEGIN:VEVENT
DTSTART;TZID=Asia/Karachi:20231228T190000
DTEND;TZID=Asia/Karachi:20231228T200000
DTSTAMP:20260421T203131
CREATED:20230804T023905Z
LAST-MODIFIED:20230804T024114Z
UID:660-1703790000-1703793600@weneedprayer.com
SUMMARY:Adoration (Praise and Worship)
DESCRIPTION:Praise and worship reverently led by live music band before the blessed sacrament.\nIn the little chapel up the steps on the left. You may need someone to let you in.
URL:https://weneedprayer.com/prayerrequests/event/adoration-praise-and-worship-21/
LOCATION:St. Pius X\, 3303 Urban Crest\, San Antonio\, TX\, 78209\, United States
ATTACH;FMTTYPE=image/jpeg:https://weneedprayer.com/prayerrequests/wp-content/uploads/2023/08/St-Pius-X.jpg
END:VEVENT
BEGIN:VEVENT
DTSTART;TZID=Asia/Karachi:20231228T183000
DTEND;TZID=Asia/Karachi:20231228T210000
DTSTAMP:20260421T203131
CREATED:20230804T031031Z
LAST-MODIFIED:20230804T032739Z
UID:727-1703788200-1703797200@weneedprayer.com
SUMMARY:Celebrate Recovery
DESCRIPTION:Celebrate Recovery is a Christ-Centered\, 12-Step Program that offers healing and restoration for life’s hurts\, hang-ups\, and habits. Celebrate Recovery is a safe place to find community and freedom from the issues that are controlling our life. It offers practical life application to the sanctification process. \nHere is a link with more info: http://www.newhopeunitedchurch.org/celebrate-recovery
URL:https://weneedprayer.com/prayerrequests/event/celebrate-recovery-21/
LOCATION:New Hope United\, 13875 Higgins Road\, San Antonio\, TX\, 78217\, United States
ATTACH;FMTTYPE=image/jpeg:https://weneedprayer.com/prayerrequests/wp-content/uploads/2023/08/Celebrate-Recovery.jpg
END:VEVENT
BEGIN:VEVENT
DTSTART;TZID=UTC:20231228T170000
DTEND;TZID=UTC:20231228T190000
DTSTAMP:20260421T203131
CREATED:20230723T061634Z
LAST-MODIFIED:20230803T033711Z
UID:423-1703782800-1703790000@weneedprayer.com
SUMMARY:We Need Prayer Ministry Meetup for Prayer
DESCRIPTION:Join us at Lady Bird Johnson Park for an ongoing Public Prayer Ministry where we will be specifically focusing\non pre determined needs for prayer in the world\, as well as any special prayer intentions that you may have. \nWe will be praying for: Kindness\, Gratitude\, Forgiveness\, Mercy\, Peace \nSo if you or someone you know is troubled\, lacking\, or has some room for improvement in these areas\,\nthen come by and hangout with us for a nice little outdoor time of prayer and worship. \nWe will be somewhere in the parking lot outside the Hamilton Community Center\nYou can contact us Here\, Here\, or Here for more information.
URL:https://weneedprayer.com/prayerrequests/event/we-need-prayer-ministry-meetup-for-prayer-5/
LOCATION:Lady Bird Johnson Park\, 10700 Nacogdoches Rd.\, San Antonio\, TX\, 78217\, United States
ATTACH;FMTTYPE=image/jpeg:https://weneedprayer.com/prayerrequests/wp-content/uploads/2023/07/Event-Listing-Image.jpg
ORGANIZER;CN="Edmund Olszewski":MAILTO:info@weneedprayer.com
END:VEVENT
BEGIN:VEVENT
DTSTART;TZID=Asia/Karachi:20231227T183000
DTEND;TZID=Asia/Karachi:20231227T200000
DTSTAMP:20260421T203131
CREATED:20230803T033355Z
LAST-MODIFIED:20230803T033355Z
UID:591-1703701800-1703707200@weneedprayer.com
SUMMARY:Harvest City Wednesday Night of Prayer
DESCRIPTION:If you are looking for a midweek place of worship Harvest City is currently meeting every Wednesday at 6:30pm.
URL:https://weneedprayer.com/prayerrequests/event/harvest-city-wednesday-night-of-prayer-21/
LOCATION:Harvest City\, 4906 Stahl Rd.\, San Antonio\, TX\, 78217\, United States
ATTACH;FMTTYPE=image/jpeg:https://weneedprayer.com/prayerrequests/wp-content/uploads/2023/08/Harvest-City.jpg
END:VEVENT
BEGIN:VEVENT
DTSTART;TZID=Asia/Karachi:20231226T113000
DTEND;TZID=Asia/Karachi:20231226T140000
DTSTAMP:20260421T203131
CREATED:20230807T132134Z
LAST-MODIFIED:20230807T132134Z
UID:939-1703590200-1703599200@weneedprayer.com
SUMMARY:Prayer\, Potluck\, & Play
DESCRIPTION:Adults of all ages gather to fellowship around lunch\, pray together\, and play favorite games! All are welcome! Tuesdays from 11:45 am-2:00 pm in the Creative Life Center (CLC) Grand Room. Led by Ann DeBarros.
URL:https://weneedprayer.com/prayerrequests/event/prayer-potluck-play-21/
LOCATION:Trinity Baptist\, 319 E. Mulberry\, San Antonio\, TX\, 78212\, United States
ATTACH;FMTTYPE=image/jpeg:https://weneedprayer.com/prayerrequests/wp-content/uploads/2023/08/PrayerPP.jpg
END:VEVENT
BEGIN:VEVENT
DTSTART;TZID=Asia/Karachi:20231221T190000
DTEND;TZID=Asia/Karachi:20231221T200000
DTSTAMP:20260421T203131
CREATED:20230804T023855Z
LAST-MODIFIED:20230804T024134Z
UID:659-1703185200-1703188800@weneedprayer.com
SUMMARY:Adoration (Praise and Worship)
DESCRIPTION:Praise and worship reverently led by live music band before the blessed sacrament.\nIn the little chapel up the steps on the left. You may need someone to let you in.
URL:https://weneedprayer.com/prayerrequests/event/adoration-praise-and-worship-20/
LOCATION:St. Pius X\, 3303 Urban Crest\, San Antonio\, TX\, 78209\, United States
ATTACH;FMTTYPE=image/jpeg:https://weneedprayer.com/prayerrequests/wp-content/uploads/2023/08/St-Pius-X.jpg
END:VEVENT
BEGIN:VEVENT
DTSTART;TZID=Asia/Karachi:20231221T183000
DTEND;TZID=Asia/Karachi:20231221T210000
DTSTAMP:20260421T203131
CREATED:20230804T031010Z
LAST-MODIFIED:20230804T032719Z
UID:725-1703183400-1703192400@weneedprayer.com
SUMMARY:Celebrate Recovery
DESCRIPTION:Celebrate Recovery is a Christ-Centered\, 12-Step Program that offers healing and restoration for life’s hurts\, hang-ups\, and habits. Celebrate Recovery is a safe place to find community and freedom from the issues that are controlling our life. It offers practical life application to the sanctification process. \nHere is a link with more info: http://www.newhopeunitedchurch.org/celebrate-recovery
URL:https://weneedprayer.com/prayerrequests/event/celebrate-recovery-20/
LOCATION:New Hope United\, 13875 Higgins Road\, San Antonio\, TX\, 78217\, United States
ATTACH;FMTTYPE=image/jpeg:https://weneedprayer.com/prayerrequests/wp-content/uploads/2023/08/Celebrate-Recovery.jpg
END:VEVENT
BEGIN:VEVENT
DTSTART;TZID=UTC:20231221T080000
DTEND;TZID=UTC:20231221T170000
DTSTAMP:20260421T203131
CREATED:20230805T150709Z
LAST-MODIFIED:20230805T150709Z
UID:821-1703145600-1703178000@weneedprayer.com
SUMMARY:Restore Praise and Worship Night
DESCRIPTION:Join us for Adoration with music and meditation every third Thursday from 7-8PM in the church. \nRepeats every third Thursday of the month\nLocation: St. Matthew Catholic Church
URL:https://weneedprayer.com/prayerrequests/event/restore-praise-and-worship-night-5/
LOCATION:St. Matthew\, 10703 Wurzbach Rd.\, San Antonio\, TX\, 78230\, United States
ATTACH;FMTTYPE=image/jpeg:https://weneedprayer.com/prayerrequests/wp-content/uploads/2023/08/Stt-Matthew-man-pray.jpg
END:VEVENT
BEGIN:VEVENT
DTSTART;TZID=Asia/Karachi:20231220T183000
DTEND;TZID=Asia/Karachi:20231220T200000
DTSTAMP:20260421T203131
CREATED:20230803T033349Z
LAST-MODIFIED:20230803T033349Z
UID:599-1703097000-1703102400@weneedprayer.com
SUMMARY:Harvest City Wednesday Night of Prayer
DESCRIPTION:If you are looking for a midweek place of worship Harvest City is currently meeting every Wednesday at 6:30pm.
URL:https://weneedprayer.com/prayerrequests/event/harvest-city-wednesday-night-of-prayer-20/
LOCATION:Harvest City\, 4906 Stahl Rd.\, San Antonio\, TX\, 78217\, United States
ATTACH;FMTTYPE=image/jpeg:https://weneedprayer.com/prayerrequests/wp-content/uploads/2023/08/Harvest-City.jpg
END:VEVENT
BEGIN:VEVENT
DTSTART;TZID=Asia/Karachi:20231219T113000
DTEND;TZID=Asia/Karachi:20231219T140000
DTSTAMP:20260421T203131
CREATED:20230807T132121Z
LAST-MODIFIED:20230807T132121Z
UID:938-1702985400-1702994400@weneedprayer.com
SUMMARY:Prayer\, Potluck\, & Play
DESCRIPTION:Adults of all ages gather to fellowship around lunch\, pray together\, and play favorite games! All are welcome! Tuesdays from 11:45 am-2:00 pm in the Creative Life Center (CLC) Grand Room. Led by Ann DeBarros.
URL:https://weneedprayer.com/prayerrequests/event/prayer-potluck-play-20/
LOCATION:Trinity Baptist\, 319 E. Mulberry\, San Antonio\, TX\, 78212\, United States
ATTACH;FMTTYPE=image/jpeg:https://weneedprayer.com/prayerrequests/wp-content/uploads/2023/08/PrayerPP.jpg
END:VEVENT
BEGIN:VEVENT
DTSTART;TZID=Asia/Karachi:20231216T200000
DTEND;TZID=Asia/Karachi:20231216T213000
DTSTAMP:20260421T203131
CREATED:20230806T135332Z
LAST-MODIFIED:20230806T135332Z
UID:864-1702756800-1702762200@weneedprayer.com
SUMMARY:The Chamber Choir & The Children's Chorus of San Antonio
DESCRIPTION:The San Antonio Chamber Choir collaborates with the Children’s Chorus of San Antonio to present Resighi’s Laud to the Nativity.  This multi-movement work\, depicting the shepherds’ journey to Bethlehem\, will be presented in the original Italian. https://www.ccvichapel.org/schedule
URL:https://weneedprayer.com/prayerrequests/event/the-chamber-choir-the-childrens-chorus-of-san-antonio/
LOCATION:Chapel of the Incarnate Word\, 4503 Broadway\, San Antonio\, TX\, 78209\, United States
ATTACH;FMTTYPE=image/jpeg:https://weneedprayer.com/prayerrequests/wp-content/uploads/2023/08/San-Antonio-Chamber-Choir.jpg
END:VEVENT
BEGIN:VEVENT
DTSTART;TZID=Asia/Karachi:20231214T190000
DTEND;TZID=Asia/Karachi:20231214T200000
DTSTAMP:20260421T203131
CREATED:20230804T023836Z
LAST-MODIFIED:20230804T024139Z
UID:658-1702580400-1702584000@weneedprayer.com
SUMMARY:Adoration (Praise and Worship)
DESCRIPTION:Praise and worship reverently led by live music band before the blessed sacrament.\nIn the little chapel up the steps on the left. You may need someone to let you in.
URL:https://weneedprayer.com/prayerrequests/event/adoration-praise-and-worship-19/
LOCATION:St. Pius X\, 3303 Urban Crest\, San Antonio\, TX\, 78209\, United States
ATTACH;FMTTYPE=image/jpeg:https://weneedprayer.com/prayerrequests/wp-content/uploads/2023/08/St-Pius-X.jpg
END:VEVENT
BEGIN:VEVENT
DTSTART;TZID=Asia/Karachi:20231214T183000
DTEND;TZID=Asia/Karachi:20231214T210000
DTSTAMP:20260421T203131
CREATED:20230804T030952Z
LAST-MODIFIED:20230804T032708Z
UID:724-1702578600-1702587600@weneedprayer.com
SUMMARY:Celebrate Recovery
DESCRIPTION:Celebrate Recovery is a Christ-Centered\, 12-Step Program that offers healing and restoration for life’s hurts\, hang-ups\, and habits. Celebrate Recovery is a safe place to find community and freedom from the issues that are controlling our life. It offers practical life application to the sanctification process. \nHere is a link with more info: http://www.newhopeunitedchurch.org/celebrate-recovery
URL:https://weneedprayer.com/prayerrequests/event/celebrate-recovery-19/
LOCATION:New Hope United\, 13875 Higgins Road\, San Antonio\, TX\, 78217\, United States
ATTACH;FMTTYPE=image/jpeg:https://weneedprayer.com/prayerrequests/wp-content/uploads/2023/08/Celebrate-Recovery.jpg
END:VEVENT
BEGIN:VEVENT
DTSTART;TZID=Asia/Karachi:20231213T183000
DTEND;TZID=Asia/Karachi:20231213T200000
DTSTAMP:20260421T203131
CREATED:20230803T033345Z
LAST-MODIFIED:20230803T033345Z
UID:598-1702492200-1702497600@weneedprayer.com
SUMMARY:Harvest City Wednesday Night of Prayer
DESCRIPTION:If you are looking for a midweek place of worship Harvest City is currently meeting every Wednesday at 6:30pm.
URL:https://weneedprayer.com/prayerrequests/event/harvest-city-wednesday-night-of-prayer-19/
LOCATION:Harvest City\, 4906 Stahl Rd.\, San Antonio\, TX\, 78217\, United States
ATTACH;FMTTYPE=image/jpeg:https://weneedprayer.com/prayerrequests/wp-content/uploads/2023/08/Harvest-City.jpg
END:VEVENT
BEGIN:VEVENT
DTSTART;TZID=Asia/Karachi:20231212T113000
DTEND;TZID=Asia/Karachi:20231212T140000
DTSTAMP:20260421T203131
CREATED:20230807T132057Z
LAST-MODIFIED:20230807T132057Z
UID:937-1702380600-1702389600@weneedprayer.com
SUMMARY:Prayer\, Potluck\, & Play
DESCRIPTION:Adults of all ages gather to fellowship around lunch\, pray together\, and play favorite games! All are welcome! Tuesdays from 11:45 am-2:00 pm in the Creative Life Center (CLC) Grand Room. Led by Ann DeBarros.
URL:https://weneedprayer.com/prayerrequests/event/prayer-potluck-play-19/
LOCATION:Trinity Baptist\, 319 E. Mulberry\, San Antonio\, TX\, 78212\, United States
ATTACH;FMTTYPE=image/jpeg:https://weneedprayer.com/prayerrequests/wp-content/uploads/2023/08/PrayerPP.jpg
END:VEVENT
BEGIN:VEVENT
DTSTART;TZID=Asia/Karachi:20231207T190000
DTEND;TZID=Asia/Karachi:20231207T200000
DTSTAMP:20260421T203131
CREATED:20230804T023801Z
LAST-MODIFIED:20230804T024144Z
UID:657-1701975600-1701979200@weneedprayer.com
SUMMARY:Adoration (Praise and Worship)
DESCRIPTION:Praise and worship reverently led by live music band before the blessed sacrament.\nIn the little chapel up the steps on the left. You may need someone to let you in.
URL:https://weneedprayer.com/prayerrequests/event/adoration-praise-and-worship-18/
LOCATION:St. Pius X\, 3303 Urban Crest\, San Antonio\, TX\, 78209\, United States
ATTACH;FMTTYPE=image/jpeg:https://weneedprayer.com/prayerrequests/wp-content/uploads/2023/08/St-Pius-X.jpg
END:VEVENT
BEGIN:VEVENT
DTSTART;TZID=Asia/Karachi:20231207T183000
DTEND;TZID=Asia/Karachi:20231207T210000
DTSTAMP:20260421T203131
CREATED:20230804T030938Z
LAST-MODIFIED:20230804T032656Z
UID:723-1701973800-1701982800@weneedprayer.com
SUMMARY:Celebrate Recovery
DESCRIPTION:Celebrate Recovery is a Christ-Centered\, 12-Step Program that offers healing and restoration for life’s hurts\, hang-ups\, and habits. Celebrate Recovery is a safe place to find community and freedom from the issues that are controlling our life. It offers practical life application to the sanctification process. \nHere is a link with more info: http://www.newhopeunitedchurch.org/celebrate-recovery
URL:https://weneedprayer.com/prayerrequests/event/celebrate-recovery-18/
LOCATION:New Hope United\, 13875 Higgins Road\, San Antonio\, TX\, 78217\, United States
ATTACH;FMTTYPE=image/jpeg:https://weneedprayer.com/prayerrequests/wp-content/uploads/2023/08/Celebrate-Recovery.jpg
END:VEVENT
BEGIN:VEVENT
DTSTART;TZID=Asia/Karachi:20231206T183000
DTEND;TZID=Asia/Karachi:20231206T200000
DTSTAMP:20260421T203131
CREATED:20230803T033339Z
LAST-MODIFIED:20230803T033339Z
UID:597-1701887400-1701892800@weneedprayer.com
SUMMARY:Harvest City Wednesday Night of Prayer
DESCRIPTION:If you are looking for a midweek place of worship Harvest City is currently meeting every Wednesday at 6:30pm.
URL:https://weneedprayer.com/prayerrequests/event/harvest-city-wednesday-night-of-prayer-18/
LOCATION:Harvest City\, 4906 Stahl Rd.\, San Antonio\, TX\, 78217\, United States
ATTACH;FMTTYPE=image/jpeg:https://weneedprayer.com/prayerrequests/wp-content/uploads/2023/08/Harvest-City.jpg
END:VEVENT
BEGIN:VEVENT
DTSTART;TZID=Asia/Karachi:20231206T183000
DTEND;TZID=Asia/Karachi:20231206T200000
DTSTAMP:20260421T203131
CREATED:20230731T211409Z
LAST-MODIFIED:20230731T211409Z
UID:479-1701887400-1701892800@weneedprayer.com
SUMMARY:Overflow
DESCRIPTION:Join us every FIRST Wednesday of the month for Overflow!  \nWe have an amazing time of fellowship & learning the Word of God. \nDinner is served @ 6:30pm \nService starts @ 7:15pm
URL:https://weneedprayer.com/prayerrequests/event/overflow-5/
LOCATION:Compassion Church\, 2862 Thousand Oaks\, San Antonio\, TX\, 78232\, United States
ATTACH;FMTTYPE=image/jpeg:https://weneedprayer.com/prayerrequests/wp-content/uploads/2023/07/Overflow.jpg
END:VEVENT
BEGIN:VEVENT
DTSTART;TZID=Asia/Karachi:20231205T190000
DTEND;TZID=Asia/Karachi:20231205T200000
DTSTAMP:20260421T203131
CREATED:20230731T215245Z
LAST-MODIFIED:20230731T215245Z
UID:501-1701802800-1701806400@weneedprayer.com
SUMMARY:Monthly Prayer Gathering
DESCRIPTION:Join us for a monthly prayer gathering. For more details\, or to sign up to be a part of our prayer team\, head to this link- \nhttps://stoneoakbible.churchcenter.com/unproxy/groups/unique/prayer-team
URL:https://weneedprayer.com/prayerrequests/event/monthly-prayer-gathering-5/
LOCATION:Stone Oak Bile Church\, 27214 Salt St\, San Antonio\, TX\, 78260\, United States
ATTACH;FMTTYPE=image/jpeg:https://weneedprayer.com/prayerrequests/wp-content/uploads/2023/07/Stone-Oak-Bible-Church.jpg
END:VEVENT
BEGIN:VEVENT
DTSTART;TZID=Asia/Karachi:20231205T113000
DTEND;TZID=Asia/Karachi:20231205T140000
DTSTAMP:20260421T203131
CREATED:20230807T132043Z
LAST-MODIFIED:20230807T132043Z
UID:936-1701775800-1701784800@weneedprayer.com
SUMMARY:Prayer\, Potluck\, & Play
DESCRIPTION:Adults of all ages gather to fellowship around lunch\, pray together\, and play favorite games! All are welcome! Tuesdays from 11:45 am-2:00 pm in the Creative Life Center (CLC) Grand Room. Led by Ann DeBarros.
URL:https://weneedprayer.com/prayerrequests/event/prayer-potluck-play-18/
LOCATION:Trinity Baptist\, 319 E. Mulberry\, San Antonio\, TX\, 78212\, United States
ATTACH;FMTTYPE=image/jpeg:https://weneedprayer.com/prayerrequests/wp-content/uploads/2023/08/PrayerPP.jpg
END:VEVENT
BEGIN:VEVENT
DTSTART;TZID=Asia/Karachi:20231204T190000
DTEND;TZID=Asia/Karachi:20231204T200000
DTSTAMP:20260421T203131
CREATED:20230804T225520Z
LAST-MODIFIED:20230804T225520Z
UID:777-1701716400-1701720000@weneedprayer.com
SUMMARY:Spanish Prayer Group Meeting
DESCRIPTION:Every 1st and 3rd MONDAY Fr. Paul Melgarejo\, Deacons Vela and Guzman HOLY HOUR IN “SPANISH” from 7 to 8 PM. EVERYONE IS WELCOME! Call Mrs. Rosario Esquivel at (210) 966-5342 for any questions.\nhttps://stmatts.org/events/spanish-prayer-group-meeting
URL:https://weneedprayer.com/prayerrequests/event/spanish-prayer-group-meeting-9/
LOCATION:St. Matthew\, 10703 Wurzbach Rd.\, San Antonio\, TX\, 78230\, United States
ATTACH;FMTTYPE=image/jpeg:https://weneedprayer.com/prayerrequests/wp-content/uploads/2023/08/Spanish-Prayer-Group.jpg
END:VEVENT
BEGIN:VEVENT
DTSTART;TZID=Asia/Karachi:20231203T150000
DTEND;TZID=Asia/Karachi:20231203T160000
DTSTAMP:20260421T203131
CREATED:20230806T141528Z
LAST-MODIFIED:20230806T141528Z
UID:883-1701615600-1701619200@weneedprayer.com
SUMMARY:UIW Cardinal Singers
DESCRIPTION:For more info follow this link https://www.ccvichapel.org/concerts
URL:https://weneedprayer.com/prayerrequests/event/uiw-cardinal-singers/
LOCATION:Chapel of the Incarnate Word\, 4503 Broadway\, San Antonio\, TX\, 78209\, United States
ATTACH;FMTTYPE=image/jpeg:https://weneedprayer.com/prayerrequests/wp-content/uploads/2023/08/UIW-Cardinal-SIngers.jpg
END:VEVENT
BEGIN:VEVENT
DTSTART;TZID=Asia/Karachi:20231201T180000
DTEND;TZID=Asia/Karachi:20231201T200000
DTSTAMP:20260421T203131
CREATED:20230804T214449Z
LAST-MODIFIED:20230804T214449Z
UID:759-1701453600-1701460800@weneedprayer.com
SUMMARY:First Friday Holy Hour and Benediction
DESCRIPTION:Join us in the main church for adoration and benediction.
URL:https://weneedprayer.com/prayerrequests/event/first-friday-holy-hour-and-benediction-4/
LOCATION:Good Sheperd\, 1065 E Live Oak Rd\, Schertz\, TX\, 78154\, United States
ATTACH;FMTTYPE=image/jpeg:https://weneedprayer.com/prayerrequests/wp-content/uploads/2023/08/Good-Shepherd.jpg
END:VEVENT
BEGIN:VEVENT
DTSTART;TZID=Asia/Karachi:20231201T160000
DTEND;TZID=Asia/Karachi:20231201T170000
DTSTAMP:20260421T203131
CREATED:20230731T205210Z
LAST-MODIFIED:20230731T205210Z
UID:468-1701446400-1701450000@weneedprayer.com
SUMMARY:Family Adoration
DESCRIPTION:Family Adoration inside the church\nStarts at 415pm to 445pm\nEvery 1st Friday of the Month
URL:https://weneedprayer.com/prayerrequests/event/family-adoration-4/
LOCATION:Holy Trinity\, 20523 Huebner Road\, San Antonio\, TX\, 78258\, United States
ATTACH;FMTTYPE=image/jpeg:https://weneedprayer.com/prayerrequests/wp-content/uploads/2023/07/Holy-Trinity.jpg
END:VEVENT
END:VCALENDAR