BEGIN:VCALENDAR
VERSION:2.0
PRODID:-//Prayer Requests - ECPv6.15.12.2//NONSGML v1.0//EN
CALSCALE:GREGORIAN
METHOD:PUBLISH
X-WR-CALNAME:Prayer Requests
X-ORIGINAL-URL:https://weneedprayer.com/prayerrequests
X-WR-CALDESC:Events for Prayer Requests
REFRESH-INTERVAL;VALUE=DURATION:PT1H
X-Robots-Tag:noindex
X-PUBLISHED-TTL:PT1H
BEGIN:VTIMEZONE
TZID:Asia/Karachi
BEGIN:STANDARD
TZOFFSETFROM:+0500
TZOFFSETTO:+0500
TZNAME:PKT
DTSTART:20220101T000000
END:STANDARD
END:VTIMEZONE
BEGIN:VEVENT
DTSTART;TZID=Asia/Karachi:20230904T190000
DTEND;TZID=Asia/Karachi:20230904T200000
DTSTAMP:20260424T193514
CREATED:20230804T225351Z
LAST-MODIFIED:20230804T225351Z
UID:771-1693854000-1693857600@weneedprayer.com
SUMMARY:Spanish Prayer Group Meeting
DESCRIPTION:Every 1st and 3rd MONDAY Fr. Paul Melgarejo\, Deacons Vela and Guzman HOLY HOUR IN “SPANISH” from 7 to 8 PM. EVERYONE IS WELCOME! Call Mrs. Rosario Esquivel at (210) 966-5342 for any questions.\nhttps://stmatts.org/events/spanish-prayer-group-meeting
URL:https://weneedprayer.com/prayerrequests/event/spanish-prayer-group-meeting-3/
LOCATION:St. Matthew\, 10703 Wurzbach Rd.\, San Antonio\, TX\, 78230\, United States
ATTACH;FMTTYPE=image/jpeg:https://weneedprayer.com/prayerrequests/wp-content/uploads/2023/08/Spanish-Prayer-Group.jpg
END:VEVENT
BEGIN:VEVENT
DTSTART;TZID=Asia/Karachi:20230901T180000
DTEND;TZID=Asia/Karachi:20230901T200000
DTSTAMP:20260424T193514
CREATED:20230804T214213Z
LAST-MODIFIED:20230804T214213Z
UID:753-1693591200-1693598400@weneedprayer.com
SUMMARY:First Friday Holy Hour and Benediction
DESCRIPTION:Join us in the main church for adoration and benediction.
URL:https://weneedprayer.com/prayerrequests/event/first-friday-holy-hour-and-benediction/
LOCATION:Good Sheperd\, 1065 E Live Oak Rd\, Schertz\, TX\, 78154\, United States
ATTACH;FMTTYPE=image/jpeg:https://weneedprayer.com/prayerrequests/wp-content/uploads/2023/08/Good-Shepherd.jpg
END:VEVENT
BEGIN:VEVENT
DTSTART;TZID=Asia/Karachi:20230901T160000
DTEND;TZID=Asia/Karachi:20230901T170000
DTSTAMP:20260424T193514
CREATED:20230731T204705Z
LAST-MODIFIED:20230731T204825Z
UID:460-1693584000-1693587600@weneedprayer.com
SUMMARY:Family Adoration
DESCRIPTION:Family Adoration inside the church\nStarts at 415pm to 445pm\nEvery 1st Friday of the Month
URL:https://weneedprayer.com/prayerrequests/event/family-adoration/
LOCATION:Holy Trinity\, 20523 Huebner Road\, San Antonio\, TX\, 78258\, United States
ATTACH;FMTTYPE=image/jpeg:https://weneedprayer.com/prayerrequests/wp-content/uploads/2023/07/Holy-Trinity.jpg
END:VEVENT
BEGIN:VEVENT
DTSTART;TZID=Asia/Karachi:20230831T190000
DTEND;TZID=Asia/Karachi:20230831T200000
DTSTAMP:20260424T193514
CREATED:20230804T023253Z
LAST-MODIFIED:20230804T024303Z
UID:643-1693508400-1693512000@weneedprayer.com
SUMMARY:Adoration (Praise and Worship)
DESCRIPTION:Praise and worship reverently led by live music band before the blessed sacrament.\nIn the little chapel up the steps on the left. You may need someone to let you in.
URL:https://weneedprayer.com/prayerrequests/event/adoration-praise-and-worship-4/
LOCATION:St. Pius X\, 3303 Urban Crest\, San Antonio\, TX\, 78209\, United States
ATTACH;FMTTYPE=image/jpeg:https://weneedprayer.com/prayerrequests/wp-content/uploads/2023/08/St-Pius-X.jpg
END:VEVENT
BEGIN:VEVENT
DTSTART;TZID=Asia/Karachi:20230831T183000
DTEND;TZID=Asia/Karachi:20230831T210000
DTSTAMP:20260424T193514
CREATED:20230804T030444Z
LAST-MODIFIED:20230804T032338Z
UID:709-1693506600-1693515600@weneedprayer.com
SUMMARY:Celebrate Recovery
DESCRIPTION:Celebrate Recovery is a Christ-Centered\, 12-Step Program that offers healing and restoration for life’s hurts\, hang-ups\, and habits. Celebrate Recovery is a safe place to find community and freedom from the issues that are controlling our life. It offers practical life application to the sanctification process. \nHere is a link with more info: http://www.newhopeunitedchurch.org/celebrate-recovery
URL:https://weneedprayer.com/prayerrequests/event/celebrate-recovery-4/
LOCATION:New Hope United\, 13875 Higgins Road\, San Antonio\, TX\, 78217\, United States
ATTACH;FMTTYPE=image/jpeg:https://weneedprayer.com/prayerrequests/wp-content/uploads/2023/08/Celebrate-Recovery.jpg
END:VEVENT
BEGIN:VEVENT
DTSTART;TZID=Asia/Karachi:20230831T170000
DTEND;TZID=Asia/Karachi:20230831T190000
DTSTAMP:20260424T193514
CREATED:20230723T055803Z
LAST-MODIFIED:20230826T034044Z
UID:414-1693501200-1693508400@weneedprayer.com
SUMMARY:We Need Prayer Ministry Meetup for Prayer
DESCRIPTION:Meetup for Prayer at Lady Bird Johnson Park for an ongoing Public Prayer Ministry where we will be specifically focusing on pre determined needs for prayer in the world\, as well as any special prayer intentions that you may have. \nWe will be praying for: Faithfulness\, Devotion\, Obedience\, Hope\, and Loyalty \nSo if you or someone you know is troubled\, lacking\, or has some room for improvement in these areas\,\nthen come by and hangout with us for a nice little outdoor time of prayer and worship. \nWe will be somewhere in the parking lot outside the Hamilton Community Center to meetup for prayer\nYou can contact us Here\, Here\, or Here for more information. \nEvent Host website https://weneedprayer.com/
URL:https://weneedprayer.com/prayerrequests/event/we-need-prayer-ministry-meetup-for-prayer-2/
LOCATION:Lady Bird Johnson Park\, 10700 Nacogdoches Rd.\, San Antonio\, TX\, 78217\, United States
ATTACH;FMTTYPE=image/jpeg:https://weneedprayer.com/prayerrequests/wp-content/uploads/2023/07/Event-Listing-Image.jpg
ORGANIZER;CN="Edmund Olszewski":MAILTO:info@weneedprayer.com
END:VEVENT
BEGIN:VEVENT
DTSTART;TZID=Asia/Karachi:20230830T183000
DTEND;TZID=Asia/Karachi:20230830T200000
DTSTAMP:20260424T193514
CREATED:20230803T033204Z
LAST-MODIFIED:20230803T033204Z
UID:581-1693420200-1693425600@weneedprayer.com
SUMMARY:Harvest City Wednesday Night of Prayer
DESCRIPTION:If you are looking for a midweek place of worship Harvest City is currently meeting every Wednesday at 6:30pm.
URL:https://weneedprayer.com/prayerrequests/event/harvest-city-wednesday-night-of-prayer-4/
LOCATION:Harvest City\, 4906 Stahl Rd.\, San Antonio\, TX\, 78217\, United States
ATTACH;FMTTYPE=image/jpeg:https://weneedprayer.com/prayerrequests/wp-content/uploads/2023/08/Harvest-City.jpg
END:VEVENT
BEGIN:VEVENT
DTSTART;TZID=Asia/Karachi:20230829T113000
DTEND;TZID=Asia/Karachi:20230829T140000
DTSTAMP:20260424T193514
CREATED:20230807T131726Z
LAST-MODIFIED:20230807T131726Z
UID:921-1693308600-1693317600@weneedprayer.com
SUMMARY:Prayer\, Potluck\, & Play
DESCRIPTION:Adults of all ages gather to fellowship around lunch\, pray together\, and play favorite games! All are welcome! Tuesdays from 11:45 am-2:00 pm in the Creative Life Center (CLC) Grand Room. Led by Ann DeBarros.
URL:https://weneedprayer.com/prayerrequests/event/prayer-potluck-play-4/
LOCATION:Trinity Baptist\, 319 E. Mulberry\, San Antonio\, TX\, 78212\, United States
ATTACH;FMTTYPE=image/jpeg:https://weneedprayer.com/prayerrequests/wp-content/uploads/2023/08/PrayerPP.jpg
END:VEVENT
BEGIN:VEVENT
DTSTART;TZID=Asia/Karachi:20230828T183000
DTEND;TZID=Asia/Karachi:20230828T200000
DTSTAMP:20260424T193514
CREATED:20230809T205241Z
LAST-MODIFIED:20230809T205241Z
UID:973-1693247400-1693252800@weneedprayer.com
SUMMARY:REBEL Nights
DESCRIPTION:Join us Monday\, August 28th for a one-night free Men’s Event called REBEL Nights! The featured speaker will be Nico LaHood\, former Bexar County District Attorney with over two decades of experience as an effective criminal defense lawyer and high-level prosecutor. \nWho: Men 14 and up \nWhen: Monday\, August 28th @ 6:30pm \nWhere: Community Bible Church \nNO registration required.
URL:https://weneedprayer.com/prayerrequests/event/rebel-nights/
LOCATION:Community Bile Church\, 2477 North Loop 1604 East\, San Antonio\, TX\, 78232\, United States
ATTACH;FMTTYPE=image/jpeg:https://weneedprayer.com/prayerrequests/wp-content/uploads/2023/08/CBC-mens-rebel-nights.jpg
END:VEVENT
BEGIN:VEVENT
DTSTART;TZID=Asia/Karachi:20230826T090000
DTEND;TZID=Asia/Karachi:20230826T100000
DTSTAMP:20260424T193514
CREATED:20230807T123249Z
LAST-MODIFIED:20230807T123249Z
UID:906-1693040400-1693044000@weneedprayer.com
SUMMARY:21 Days of Prayer
DESCRIPTION:From the beginning of New Life Fellowship\, we have made it a priority to seek God first in prayer. We do this collectively as a church in January and August through 21 Days of Prayer. These two months are intentional\, as they begin new seasons of the year. Together\, we faithfully seek God first\, trusting in His power alone to create lasting impact in our lives\, our church\, and our world. Be on the lookout for more info to follow. \nM-F: 6:00–7:00 am & Sat: 9:00–10:00 am
URL:https://weneedprayer.com/prayerrequests/event/21-days-of-prayer-6/
LOCATION:New Life Fellowship\, 11225 E Loop 1604 N\, Universal City\, 78148\, United States
ATTACH;FMTTYPE=image/jpeg:https://weneedprayer.com/prayerrequests/wp-content/uploads/2023/08/21-days-of-prayer.jpg
END:VEVENT
BEGIN:VEVENT
DTSTART;TZID=Asia/Karachi:20230824T190000
DTEND;TZID=Asia/Karachi:20230824T200000
DTSTAMP:20260424T193514
CREATED:20230804T023237Z
LAST-MODIFIED:20230804T024308Z
UID:642-1692903600-1692907200@weneedprayer.com
SUMMARY:Adoration (Praise and Worship)
DESCRIPTION:Praise and worship reverently led by live music band before the blessed sacrament.\nIn the little chapel up the steps on the left. You may need someone to let you in.
URL:https://weneedprayer.com/prayerrequests/event/adoration-praise-and-worship-3/
LOCATION:St. Pius X\, 3303 Urban Crest\, San Antonio\, TX\, 78209\, United States
ATTACH;FMTTYPE=image/jpeg:https://weneedprayer.com/prayerrequests/wp-content/uploads/2023/08/St-Pius-X.jpg
END:VEVENT
BEGIN:VEVENT
DTSTART;TZID=Asia/Karachi:20230824T183000
DTEND;TZID=Asia/Karachi:20230824T210000
DTSTAMP:20260424T193514
CREATED:20230804T030423Z
LAST-MODIFIED:20230804T032326Z
UID:708-1692901800-1692910800@weneedprayer.com
SUMMARY:Celebrate Recovery
DESCRIPTION:Celebrate Recovery is a Christ-Centered\, 12-Step Program that offers healing and restoration for life’s hurts\, hang-ups\, and habits. Celebrate Recovery is a safe place to find community and freedom from the issues that are controlling our life. It offers practical life application to the sanctification process. \nHere is a link with more info: http://www.newhopeunitedchurch.org/celebrate-recovery
URL:https://weneedprayer.com/prayerrequests/event/celebrate-recovery-3/
LOCATION:New Hope United\, 13875 Higgins Road\, San Antonio\, TX\, 78217\, United States
ATTACH;FMTTYPE=image/jpeg:https://weneedprayer.com/prayerrequests/wp-content/uploads/2023/08/Celebrate-Recovery.jpg
END:VEVENT
BEGIN:VEVENT
DTSTART;TZID=Asia/Karachi:20230823T183000
DTEND;TZID=Asia/Karachi:20230823T200000
DTSTAMP:20260424T193514
CREATED:20230731T201950Z
LAST-MODIFIED:20230731T201950Z
UID:453-1692815400-1692820800@weneedprayer.com
SUMMARY:Frassati Young Adults
DESCRIPTION:Frassati Young Adults 1st Meeting at this location!\nEvery 2nd and 4th Wednesday at 6:30pm after! \nCome out for Fellowship\, Friendship\, Deepening of Faith\, Prayer\, Adoration\, Community
URL:https://weneedprayer.com/prayerrequests/event/frassati-young-adults/
LOCATION:Our Lady of Lordes Grotto\, 5712 Blanco Rd.\, San Antonio\, TX\, 78216\, United States
ATTACH;FMTTYPE=image/jpeg:https://weneedprayer.com/prayerrequests/wp-content/uploads/2023/07/Frassati.jpg
END:VEVENT
BEGIN:VEVENT
DTSTART;TZID=Asia/Karachi:20230823T173000
DTEND;TZID=Asia/Karachi:20230823T200000
DTSTAMP:20260424T193514
CREATED:20230803T033159Z
LAST-MODIFIED:20230803T033159Z
UID:580-1692811800-1692820800@weneedprayer.com
SUMMARY:Harvest City Wednesday Night of Prayer
DESCRIPTION:If you are looking for a midweek place of worship Harvest City is currently meeting every Wednesday at 6:30pm.
URL:https://weneedprayer.com/prayerrequests/event/harvest-city-wednesday-night-of-prayer-3/
LOCATION:Harvest City\, 4906 Stahl Rd.\, San Antonio\, TX\, 78217\, United States
ATTACH;FMTTYPE=image/jpeg:https://weneedprayer.com/prayerrequests/wp-content/uploads/2023/08/Harvest-City.jpg
END:VEVENT
BEGIN:VEVENT
DTSTART;TZID=Asia/Karachi:20230822T113000
DTEND;TZID=Asia/Karachi:20230822T140000
DTSTAMP:20260424T193514
CREATED:20230807T131705Z
LAST-MODIFIED:20230807T131705Z
UID:920-1692703800-1692712800@weneedprayer.com
SUMMARY:Prayer\, Potluck\, & Play
DESCRIPTION:Adults of all ages gather to fellowship around lunch\, pray together\, and play favorite games! All are welcome! Tuesdays from 11:45 am-2:00 pm in the Creative Life Center (CLC) Grand Room. Led by Ann DeBarros.
URL:https://weneedprayer.com/prayerrequests/event/prayer-potluck-play-3/
LOCATION:Trinity Baptist\, 319 E. Mulberry\, San Antonio\, TX\, 78212\, United States
ATTACH;FMTTYPE=image/jpeg:https://weneedprayer.com/prayerrequests/wp-content/uploads/2023/08/PrayerPP.jpg
END:VEVENT
BEGIN:VEVENT
DTSTART;TZID=Asia/Karachi:20230821T190000
DTEND;TZID=Asia/Karachi:20230821T200000
DTSTAMP:20260424T193514
CREATED:20230804T225337Z
LAST-MODIFIED:20230804T225337Z
UID:770-1692644400-1692648000@weneedprayer.com
SUMMARY:Spanish Prayer Group Meeting
DESCRIPTION:Every 1st and 3rd MONDAY Fr. Paul Melgarejo\, Deacons Vela and Guzman HOLY HOUR IN “SPANISH” from 7 to 8 PM. EVERYONE IS WELCOME! Call Mrs. Rosario Esquivel at (210) 966-5342 for any questions.\nhttps://stmatts.org/events/spanish-prayer-group-meeting
URL:https://weneedprayer.com/prayerrequests/event/spanish-prayer-group-meeting-2/
LOCATION:St. Matthew\, 10703 Wurzbach Rd.\, San Antonio\, TX\, 78230\, United States
ATTACH;FMTTYPE=image/jpeg:https://weneedprayer.com/prayerrequests/wp-content/uploads/2023/08/Spanish-Prayer-Group.jpg
END:VEVENT
BEGIN:VEVENT
DTSTART;TZID=Asia/Karachi:20230821T060000
DTEND;TZID=Asia/Karachi:20230825T070000
DTSTAMP:20260424T193514
CREATED:20230807T123227Z
LAST-MODIFIED:20230807T123227Z
UID:905-1692597600-1692946800@weneedprayer.com
SUMMARY:21 Days of Prayer
DESCRIPTION:From the beginning of New Life Fellowship\, we have made it a priority to seek God first in prayer. We do this collectively as a church in January and August through 21 Days of Prayer. These two months are intentional\, as they begin new seasons of the year. Together\, we faithfully seek God first\, trusting in His power alone to create lasting impact in our lives\, our church\, and our world. Be on the lookout for more info to follow. \nM-F: 6:00–7:00 am & Sat: 9:00–10:00 am
URL:https://weneedprayer.com/prayerrequests/event/21-days-of-prayer-5/
LOCATION:New Life Fellowship\, 11225 E Loop 1604 N\, Universal City\, 78148\, United States
ATTACH;FMTTYPE=image/jpeg:https://weneedprayer.com/prayerrequests/wp-content/uploads/2023/08/21-days-of-prayer.jpg
END:VEVENT
BEGIN:VEVENT
DTSTART;TZID=Asia/Karachi:20230820T183000
DTEND;TZID=Asia/Karachi:20230820T203000
DTSTAMP:20260424T193514
CREATED:20230731T213519Z
LAST-MODIFIED:20230731T213519Z
UID:491-1692556200-1692563400@weneedprayer.com
SUMMARY:Matthew West
DESCRIPTION:Matthew West Free Music Concert at Cornerstone Baptist Church.
URL:https://weneedprayer.com/prayerrequests/event/matthew-west/
LOCATION:Cornerstone Baptist Church\, 18755 Stone Oak Pkwy\, San Antonio\, TX\, 78258\, United States
ATTACH;FMTTYPE=image/jpeg:https://weneedprayer.com/prayerrequests/wp-content/uploads/2023/07/Cornerstone.jpg
END:VEVENT
BEGIN:VEVENT
DTSTART;TZID=Asia/Karachi:20230820T170000
DTEND;TZID=Asia/Karachi:20230820T200000
DTSTAMP:20260424T193514
CREATED:20230731T223222Z
LAST-MODIFIED:20230731T223222Z
UID:528-1692550800-1692561600@weneedprayer.com
SUMMARY:Movie Night: Jesus Revolution
DESCRIPTION:Join us for a fun night together as we watch The Jesus Revolution movie while eating snacks. \nIn the 1970s\, young Greg Laurie (Joel Courtney) is searching for all the right things in all the wrong places: until he meets Lonnie Frisbee (Jonathan Roumie)\, a charismatic hippie-street-preacher. Together with Pastor Chuck Smith (Kelsey Grammer)\, they open the doors of Smith’s languishing church to an unexpected revival of radical and newfound love\, leading to what TIME Magazine dubbed a JESUS REVOLUTION! \nhttps://subsplash.com/+b776/lb/ev/+fbp7pn6?branding=true&embed=true&recentRoute=app.web-app.library.event.index \nLocation for this event is:\n701 El Portal Dr.\nSan Antonio\, TX 78232\nVoigt Center
URL:https://weneedprayer.com/prayerrequests/event/movie-night-jesus-revolution/
LOCATION:Calvary Capel\, 17018 Silverwood Dr\, San Antonio\, TX\, 78232\, United States
ATTACH;FMTTYPE=image/jpeg:https://weneedprayer.com/prayerrequests/wp-content/uploads/2023/07/Calvary-Chapel.jpg
END:VEVENT
BEGIN:VEVENT
DTSTART;TZID=Asia/Karachi:20230819T090000
DTEND;TZID=Asia/Karachi:20230819T100000
DTSTAMP:20260424T193514
CREATED:20230807T123200Z
LAST-MODIFIED:20230807T123200Z
UID:904-1692435600-1692439200@weneedprayer.com
SUMMARY:21 Days of Prayer
DESCRIPTION:From the beginning of New Life Fellowship\, we have made it a priority to seek God first in prayer. We do this collectively as a church in January and August through 21 Days of Prayer. These two months are intentional\, as they begin new seasons of the year. Together\, we faithfully seek God first\, trusting in His power alone to create lasting impact in our lives\, our church\, and our world. Be on the lookout for more info to follow. \nM-F: 6:00–7:00 am & Sat: 9:00–10:00 am
URL:https://weneedprayer.com/prayerrequests/event/21-days-of-prayer-4/
LOCATION:New Life Fellowship\, 11225 E Loop 1604 N\, Universal City\, 78148\, United States
ATTACH;FMTTYPE=image/jpeg:https://weneedprayer.com/prayerrequests/wp-content/uploads/2023/08/21-days-of-prayer.jpg
END:VEVENT
BEGIN:VEVENT
DTSTART;TZID=Asia/Karachi:20230818T190000
DTEND;TZID=Asia/Karachi:20230818T200000
DTSTAMP:20260424T193514
CREATED:20230731T195801Z
LAST-MODIFIED:20230731T200303Z
UID:434-1692385200-1692388800@weneedprayer.com
SUMMARY:El - Shaddai San Antonio Eucharistic Revival
DESCRIPTION:Praise and Worship\, Healing Prayer\, Adoration of the blessed Sacrament \nOur Lady of Lourdes Grotto \nEvery 3rd Friday of the month at 7pm
URL:https://weneedprayer.com/prayerrequests/event/el-shaddai-san-antonio-eucharistic-revival/
LOCATION:Our Lady of Lordes Grotto\, 5712 Blanco Rd.\, San Antonio\, TX\, 78216\, United States
ATTACH;FMTTYPE=image/jpeg:https://weneedprayer.com/prayerrequests/wp-content/uploads/2023/07/El-Shaddai.jpg
END:VEVENT
BEGIN:VEVENT
DTSTART;TZID=Asia/Karachi:20230817T190000
DTEND;TZID=Asia/Karachi:20230817T200000
DTSTAMP:20260424T193514
CREATED:20230805T145534Z
LAST-MODIFIED:20230805T145534Z
UID:815-1692298800-1692302400@weneedprayer.com
SUMMARY:Restore Praise and Worship Night
DESCRIPTION:Join us for Adoration with music and meditation every third Thursday from 7-8PM in the church. \nRepeats every third Thursday of the month\nLocation: St. Matthew Catholic Church
URL:https://weneedprayer.com/prayerrequests/event/restore-praise-and-worship-night/
LOCATION:St. Matthew\, 10703 Wurzbach Rd.\, San Antonio\, TX\, 78230\, United States
ATTACH;FMTTYPE=image/jpeg:https://weneedprayer.com/prayerrequests/wp-content/uploads/2023/08/Stt-Matthew-man-pray.jpg
END:VEVENT
BEGIN:VEVENT
DTSTART;TZID=Asia/Karachi:20230817T190000
DTEND;TZID=Asia/Karachi:20230817T200000
DTSTAMP:20260424T193514
CREATED:20230804T023220Z
LAST-MODIFIED:20230804T024312Z
UID:641-1692298800-1692302400@weneedprayer.com
SUMMARY:Adoration (Praise and Worship)
DESCRIPTION:Praise and worship reverently led by live music band before the blessed sacrament.\nIn the little chapel up the steps on the left. You may need someone to let you in.
URL:https://weneedprayer.com/prayerrequests/event/adoration-praise-and-worship-2/
LOCATION:St. Pius X\, 3303 Urban Crest\, San Antonio\, TX\, 78209\, United States
ATTACH;FMTTYPE=image/jpeg:https://weneedprayer.com/prayerrequests/wp-content/uploads/2023/08/St-Pius-X.jpg
END:VEVENT
BEGIN:VEVENT
DTSTART;TZID=Asia/Karachi:20230817T183000
DTEND;TZID=Asia/Karachi:20230817T210000
DTSTAMP:20260424T193514
CREATED:20230804T025854Z
LAST-MODIFIED:20230804T032315Z
UID:707-1692297000-1692306000@weneedprayer.com
SUMMARY:Celebrate Recovery
DESCRIPTION:Celebrate Recovery is a Christ-Centered\, 12-Step Program that offers healing and restoration for life’s hurts\, hang-ups\, and habits. Celebrate Recovery is a safe place to find community and freedom from the issues that are controlling our life. It offers practical life application to the sanctification process. \nHere is a link with more info: http://www.newhopeunitedchurch.org/celebrate-recovery
URL:https://weneedprayer.com/prayerrequests/event/celebrate-recovery-2/
LOCATION:New Hope United\, 13875 Higgins Road\, San Antonio\, TX\, 78217\, United States
ATTACH;FMTTYPE=image/jpeg:https://weneedprayer.com/prayerrequests/wp-content/uploads/2023/08/Celebrate-Recovery.jpg
END:VEVENT
BEGIN:VEVENT
DTSTART;TZID=Asia/Karachi:20230816T183000
DTEND;TZID=Asia/Karachi:20230816T200000
DTSTAMP:20260424T193514
CREATED:20230803T033153Z
LAST-MODIFIED:20230803T033153Z
UID:579-1692210600-1692216000@weneedprayer.com
SUMMARY:Harvest City Wednesday Night of Prayer
DESCRIPTION:If you are looking for a midweek place of worship Harvest City is currently meeting every Wednesday at 6:30pm.
URL:https://weneedprayer.com/prayerrequests/event/harvest-city-wednesday-night-of-prayer-2/
LOCATION:Harvest City\, 4906 Stahl Rd.\, San Antonio\, TX\, 78217\, United States
ATTACH;FMTTYPE=image/jpeg:https://weneedprayer.com/prayerrequests/wp-content/uploads/2023/08/Harvest-City.jpg
END:VEVENT
BEGIN:VEVENT
DTSTART;TZID=Asia/Karachi:20230815T113000
DTEND;TZID=Asia/Karachi:20230815T140000
DTSTAMP:20260424T193514
CREATED:20230807T131650Z
LAST-MODIFIED:20230807T131650Z
UID:919-1692099000-1692108000@weneedprayer.com
SUMMARY:Prayer\, Potluck\, & Play
DESCRIPTION:Adults of all ages gather to fellowship around lunch\, pray together\, and play favorite games! All are welcome! Tuesdays from 11:45 am-2:00 pm in the Creative Life Center (CLC) Grand Room. Led by Ann DeBarros.
URL:https://weneedprayer.com/prayerrequests/event/prayer-potluck-play-2/
LOCATION:Trinity Baptist\, 319 E. Mulberry\, San Antonio\, TX\, 78212\, United States
ATTACH;FMTTYPE=image/jpeg:https://weneedprayer.com/prayerrequests/wp-content/uploads/2023/08/PrayerPP.jpg
END:VEVENT
BEGIN:VEVENT
DTSTART;TZID=Asia/Karachi:20230814T060000
DTEND;TZID=Asia/Karachi:20230818T070000
DTSTAMP:20260424T193514
CREATED:20230807T123123Z
LAST-MODIFIED:20230807T123123Z
UID:903-1691992800-1692342000@weneedprayer.com
SUMMARY:21 Days of Prayer
DESCRIPTION:From the beginning of New Life Fellowship\, we have made it a priority to seek God first in prayer. We do this collectively as a church in January and August through 21 Days of Prayer. These two months are intentional\, as they begin new seasons of the year. Together\, we faithfully seek God first\, trusting in His power alone to create lasting impact in our lives\, our church\, and our world. Be on the lookout for more info to follow. \nM-F: 6:00–7:00 am & Sat: 9:00–10:00 am
URL:https://weneedprayer.com/prayerrequests/event/21-days-of-prayer-3/
LOCATION:New Life Fellowship\, 11225 E Loop 1604 N\, Universal City\, 78148\, United States
ATTACH;FMTTYPE=image/jpeg:https://weneedprayer.com/prayerrequests/wp-content/uploads/2023/08/21-days-of-prayer.jpg
END:VEVENT
BEGIN:VEVENT
DTSTART;TZID=Asia/Karachi:20230813T183000
DTEND;TZID=Asia/Karachi:20230813T200000
DTSTAMP:20260424T193514
CREATED:20230731T213327Z
LAST-MODIFIED:20230731T213525Z
UID:488-1691951400-1691956800@weneedprayer.com
SUMMARY:Charity Gayle
DESCRIPTION:Charity Gayle Free Music Concert at Cornerstone Baptist Church.
URL:https://weneedprayer.com/prayerrequests/event/charity-gayle/
LOCATION:Cornerstone Baptist Church\, 18755 Stone Oak Pkwy\, San Antonio\, TX\, 78258\, United States
ATTACH;FMTTYPE=image/jpeg:https://weneedprayer.com/prayerrequests/wp-content/uploads/2023/07/Cornerstone.jpg
END:VEVENT
BEGIN:VEVENT
DTSTART;TZID=Asia/Karachi:20230813T150000
DTEND;TZID=Asia/Karachi:20230813T163000
DTSTAMP:20260424T193514
CREATED:20230807T134033Z
LAST-MODIFIED:20230807T134033Z
UID:962-1691938800-1691944200@weneedprayer.com
SUMMARY:THE Olmos Ensemble
DESCRIPTION:These are world class musicians who have a deep commitment to Chamber music and high standards for their performances.\nSince its founding in 1994\, Olmos Ensemble has established itself as one of the premier chamber music organizations in Texas and is increasingly gaining national recognition through its world class performances\, live broadcasts and recordings. Comprised of the Principal Winds and Concertmaster of the formal San Antonio Symphony and supplemented by leading musicians from across the\nUnited States\, Olmos Ensemble’s programming has won plaudits for its innovative programming\, showcasing neglected works by female composers\, forgotten Baroque gems and challenging contemporary pieces along side insightful interpretations of standard chamber repertoire from the 18th\, 19th and 20th centuries. In addition to an annual Summer Concert Series in August and Regular\nConcert Series throughout the year\, Olmos Ensemble performs outreach concerts in local communities and is regularly featured in broadcast performances on Texas Public Radio and American Public Media’s Performance Today. Olmos Ensemble collaborators include internationally acclaimed artists such as Vadim Gluzman\, Jon Kimura Parker\, William Hagen\, Timothy Jones\, Jeffrey Sykes\,\nEvan Kory\, Warren Jones and John Novacek. \nWoodwind Sampler w/ Dominic Cheli piano\nSchuller * Bonis * Korngold * Karg Elert \nConcert rules and regulations:\nDoors open 20 minutes before concert\nSeating is open\nNo tickets required!\nOur concerts are free\, we rely 100% on donations
URL:https://weneedprayer.com/prayerrequests/event/the-olmos-ensemble/
LOCATION:Shepherd King Lutheran Church\, 303 West Ramsey Road\, San Antonio\, TX\, 78216\, United States
ATTACH;FMTTYPE=image/jpeg:https://weneedprayer.com/prayerrequests/wp-content/uploads/2023/08/shepherdKLC.jpg
END:VEVENT
BEGIN:VEVENT
DTSTART;TZID=Asia/Karachi:20230812T090000
DTEND;TZID=Asia/Karachi:20230812T100000
DTSTAMP:20260424T193514
CREATED:20230807T123043Z
LAST-MODIFIED:20230807T123043Z
UID:902-1691830800-1691834400@weneedprayer.com
SUMMARY:21 Days of Prayer
DESCRIPTION:From the beginning of New Life Fellowship\, we have made it a priority to seek God first in prayer. We do this collectively as a church in January and August through 21 Days of Prayer. These two months are intentional\, as they begin new seasons of the year. Together\, we faithfully seek God first\, trusting in His power alone to create lasting impact in our lives\, our church\, and our world. Be on the lookout for more info to follow. \nM-F: 6:00–7:00 am & Sat: 9:00–10:00 am
URL:https://weneedprayer.com/prayerrequests/event/21-days-of-prayer-2/
LOCATION:New Life Fellowship\, 11225 E Loop 1604 N\, Universal City\, 78148\, United States
ATTACH;FMTTYPE=image/jpeg:https://weneedprayer.com/prayerrequests/wp-content/uploads/2023/08/21-days-of-prayer.jpg
END:VEVENT
END:VCALENDAR