BEGIN:VCALENDAR
VERSION:2.0
PRODID:-//Prayer Requests - ECPv6.15.12.2//NONSGML v1.0//EN
CALSCALE:GREGORIAN
METHOD:PUBLISH
X-WR-CALNAME:Prayer Requests
X-ORIGINAL-URL:https://weneedprayer.com/prayerrequests
X-WR-CALDESC:Events for Prayer Requests
REFRESH-INTERVAL;VALUE=DURATION:PT1H
X-Robots-Tag:noindex
X-PUBLISHED-TTL:PT1H
BEGIN:VTIMEZONE
TZID:Asia/Karachi
BEGIN:STANDARD
TZOFFSETFROM:+0500
TZOFFSETTO:+0500
TZNAME:PKT
DTSTART:20220101T000000
END:STANDARD
END:VTIMEZONE
BEGIN:VEVENT
DTSTART;TZID=Asia/Karachi:20230928T183000
DTEND;TZID=Asia/Karachi:20230928T210000
DTSTAMP:20260424T161422
CREATED:20230804T030700Z
LAST-MODIFIED:20230804T032429Z
UID:713-1695925800-1695934800@weneedprayer.com
SUMMARY:Celebrate Recovery
DESCRIPTION:Celebrate Recovery is a Christ-Centered\, 12-Step Program that offers healing and restoration for life’s hurts\, hang-ups\, and habits. Celebrate Recovery is a safe place to find community and freedom from the issues that are controlling our life. It offers practical life application to the sanctification process. \nHere is a link with more info: http://www.newhopeunitedchurch.org/celebrate-recovery
URL:https://weneedprayer.com/prayerrequests/event/celebrate-recovery-8/
LOCATION:New Hope United\, 13875 Higgins Road\, San Antonio\, TX\, 78217\, United States
ATTACH;FMTTYPE=image/jpeg:https://weneedprayer.com/prayerrequests/wp-content/uploads/2023/08/Celebrate-Recovery.jpg
END:VEVENT
BEGIN:VEVENT
DTSTART;TZID=Asia/Karachi:20230928T170000
DTEND;TZID=Asia/Karachi:20230928T190000
DTSTAMP:20260424T161422
CREATED:20230723T055252Z
LAST-MODIFIED:20230803T033655Z
UID:408-1695920400-1695927600@weneedprayer.com
SUMMARY:We Need Prayer Ministry Meetup for Prayer
DESCRIPTION:Join us at Lady Bird Johnson Park for an ongoing Public Prayer Ministry where we will be specifically focusing\non pre determined needs for prayer in the world\, as well as any special prayer intentions that you may have. \nWe will be praying for: Fasting\, Prayer\, Listening\, Trust\, Praise\, Offerings \nSo if you or someone you know is troubled\, lacking\, or has some room for improvement in these areas\,\nthen come by and hangout with us for a nice little outdoor time of prayer and worship. \nWe will be somewhere in the parking lot outside the Hamilton Community Center\nYou can contact us Here\, Here\, or Here for more information.
URL:https://weneedprayer.com/prayerrequests/event/we-need-prayer-ministry-meetup-for-prayer/
LOCATION:Lady Bird Johnson Park\, 10700 Nacogdoches Rd.\, San Antonio\, TX\, 78217\, United States
ATTACH;FMTTYPE=image/jpeg:https://weneedprayer.com/prayerrequests/wp-content/uploads/2023/07/Event-Listing-Image.jpg
ORGANIZER;CN="Edmund Olszewski":MAILTO:info@weneedprayer.com
END:VEVENT
BEGIN:VEVENT
DTSTART;TZID=Asia/Karachi:20230927T183000
DTEND;TZID=Asia/Karachi:20230927T200000
DTSTAMP:20260424T161422
CREATED:20230803T033230Z
LAST-MODIFIED:20230803T033230Z
UID:585-1695839400-1695844800@weneedprayer.com
SUMMARY:Harvest City Wednesday Night of Prayer
DESCRIPTION:If you are looking for a midweek place of worship Harvest City is currently meeting every Wednesday at 6:30pm.
URL:https://weneedprayer.com/prayerrequests/event/harvest-city-wednesday-night-of-prayer-8/
LOCATION:Harvest City\, 4906 Stahl Rd.\, San Antonio\, TX\, 78217\, United States
ATTACH;FMTTYPE=image/jpeg:https://weneedprayer.com/prayerrequests/wp-content/uploads/2023/08/Harvest-City.jpg
END:VEVENT
BEGIN:VEVENT
DTSTART;TZID=Asia/Karachi:20230926T113000
DTEND;TZID=Asia/Karachi:20230926T140000
DTSTAMP:20260424T161422
CREATED:20230807T131832Z
LAST-MODIFIED:20230807T131832Z
UID:925-1695727800-1695736800@weneedprayer.com
SUMMARY:Prayer\, Potluck\, & Play
DESCRIPTION:Adults of all ages gather to fellowship around lunch\, pray together\, and play favorite games! All are welcome! Tuesdays from 11:45 am-2:00 pm in the Creative Life Center (CLC) Grand Room. Led by Ann DeBarros.
URL:https://weneedprayer.com/prayerrequests/event/prayer-potluck-play-8/
LOCATION:Trinity Baptist\, 319 E. Mulberry\, San Antonio\, TX\, 78212\, United States
ATTACH;FMTTYPE=image/jpeg:https://weneedprayer.com/prayerrequests/wp-content/uploads/2023/08/PrayerPP.jpg
END:VEVENT
BEGIN:VEVENT
DTSTART;TZID=Asia/Karachi:20230921T190000
DTEND;TZID=Asia/Karachi:20230921T200000
DTSTAMP:20260424T161422
CREATED:20230805T150655Z
LAST-MODIFIED:20230805T150655Z
UID:818-1695322800-1695326400@weneedprayer.com
SUMMARY:Restore Praise and Worship Night
DESCRIPTION:Join us for Adoration with music and meditation every third Thursday from 7-8PM in the church. \nRepeats every third Thursday of the month\nLocation: St. Matthew Catholic Church
URL:https://weneedprayer.com/prayerrequests/event/restore-praise-and-worship-night-2/
LOCATION:St. Matthew\, 10703 Wurzbach Rd.\, San Antonio\, TX\, 78230\, United States
ATTACH;FMTTYPE=image/jpeg:https://weneedprayer.com/prayerrequests/wp-content/uploads/2023/08/Stt-Matthew-man-pray.jpg
END:VEVENT
BEGIN:VEVENT
DTSTART;TZID=Asia/Karachi:20230921T190000
DTEND;TZID=Asia/Karachi:20230921T200000
DTSTAMP:20260424T161422
CREATED:20230804T023348Z
LAST-MODIFIED:20230804T024249Z
UID:646-1695322800-1695326400@weneedprayer.com
SUMMARY:Adoration (Praise and Worship)
DESCRIPTION:Praise and worship reverently led by live music band before the blessed sacrament.\nIn the little chapel up the steps on the left. You may need someone to let you in.
URL:https://weneedprayer.com/prayerrequests/event/adoration-praise-and-worship-7/
LOCATION:St. Pius X\, 3303 Urban Crest\, San Antonio\, TX\, 78209\, United States
ATTACH;FMTTYPE=image/jpeg:https://weneedprayer.com/prayerrequests/wp-content/uploads/2023/08/St-Pius-X.jpg
END:VEVENT
BEGIN:VEVENT
DTSTART;TZID=Asia/Karachi:20230921T183000
DTEND;TZID=Asia/Karachi:20230921T210000
DTSTAMP:20260424T161422
CREATED:20230804T030645Z
LAST-MODIFIED:20230804T032417Z
UID:712-1695321000-1695330000@weneedprayer.com
SUMMARY:Celebrate Recovery
DESCRIPTION:Celebrate Recovery is a Christ-Centered\, 12-Step Program that offers healing and restoration for life’s hurts\, hang-ups\, and habits. Celebrate Recovery is a safe place to find community and freedom from the issues that are controlling our life. It offers practical life application to the sanctification process. \nHere is a link with more info: http://www.newhopeunitedchurch.org/celebrate-recovery
URL:https://weneedprayer.com/prayerrequests/event/celebrate-recovery-7/
LOCATION:New Hope United\, 13875 Higgins Road\, San Antonio\, TX\, 78217\, United States
ATTACH;FMTTYPE=image/jpeg:https://weneedprayer.com/prayerrequests/wp-content/uploads/2023/08/Celebrate-Recovery.jpg
END:VEVENT
BEGIN:VEVENT
DTSTART;TZID=Asia/Karachi:20230920T183000
DTEND;TZID=Asia/Karachi:20230920T200000
DTSTAMP:20260424T161422
CREATED:20230803T033223Z
LAST-MODIFIED:20230803T033223Z
UID:584-1695234600-1695240000@weneedprayer.com
SUMMARY:Harvest City Wednesday Night of Prayer
DESCRIPTION:If you are looking for a midweek place of worship Harvest City is currently meeting every Wednesday at 6:30pm.
URL:https://weneedprayer.com/prayerrequests/event/harvest-city-wednesday-night-of-prayer-7/
LOCATION:Harvest City\, 4906 Stahl Rd.\, San Antonio\, TX\, 78217\, United States
ATTACH;FMTTYPE=image/jpeg:https://weneedprayer.com/prayerrequests/wp-content/uploads/2023/08/Harvest-City.jpg
END:VEVENT
BEGIN:VEVENT
DTSTART;TZID=Asia/Karachi:20230919T113000
DTEND;TZID=Asia/Karachi:20230919T140000
DTSTAMP:20260424T161422
CREATED:20230807T131817Z
LAST-MODIFIED:20230807T131817Z
UID:924-1695123000-1695132000@weneedprayer.com
SUMMARY:Prayer\, Potluck\, & Play
DESCRIPTION:Adults of all ages gather to fellowship around lunch\, pray together\, and play favorite games! All are welcome! Tuesdays from 11:45 am-2:00 pm in the Creative Life Center (CLC) Grand Room. Led by Ann DeBarros.
URL:https://weneedprayer.com/prayerrequests/event/prayer-potluck-play-7/
LOCATION:Trinity Baptist\, 319 E. Mulberry\, San Antonio\, TX\, 78212\, United States
ATTACH;FMTTYPE=image/jpeg:https://weneedprayer.com/prayerrequests/wp-content/uploads/2023/08/PrayerPP.jpg
END:VEVENT
BEGIN:VEVENT
DTSTART;TZID=Asia/Karachi:20230918T190000
DTEND;TZID=Asia/Karachi:20230918T200000
DTSTAMP:20260424T161422
CREATED:20230804T225415Z
LAST-MODIFIED:20230804T225415Z
UID:772-1695063600-1695067200@weneedprayer.com
SUMMARY:Spanish Prayer Group Meeting
DESCRIPTION:Every 1st and 3rd MONDAY Fr. Paul Melgarejo\, Deacons Vela and Guzman HOLY HOUR IN “SPANISH” from 7 to 8 PM. EVERYONE IS WELCOME! Call Mrs. Rosario Esquivel at (210) 966-5342 for any questions.\nhttps://stmatts.org/events/spanish-prayer-group-meeting
URL:https://weneedprayer.com/prayerrequests/event/spanish-prayer-group-meeting-4/
LOCATION:St. Matthew\, 10703 Wurzbach Rd.\, San Antonio\, TX\, 78230\, United States
ATTACH;FMTTYPE=image/jpeg:https://weneedprayer.com/prayerrequests/wp-content/uploads/2023/08/Spanish-Prayer-Group.jpg
END:VEVENT
BEGIN:VEVENT
DTSTART;TZID=Asia/Karachi:20230917T180000
DTEND;TZID=Asia/Karachi:20230917T200000
DTSTAMP:20260424T161422
CREATED:20230902T160654Z
LAST-MODIFIED:20230902T160654Z
UID:1008-1694973600-1694980800@weneedprayer.com
SUMMARY:Unite Night
DESCRIPTION:The Holy one Church is having music ministry worship night
URL:https://weneedprayer.com/prayerrequests/event/unite-night/
LOCATION:The Holy One Church\, 379 E Petaluma Blvd\, San Antonio\, TX\, 78221\, United States
ATTACH;FMTTYPE=image/jpeg:https://weneedprayer.com/prayerrequests/wp-content/uploads/2023/09/unite-night.jpg
END:VEVENT
BEGIN:VEVENT
DTSTART;TZID=Asia/Karachi:20230915T190000
DTEND;TZID=Asia/Karachi:20230915T200000
DTSTAMP:20260424T161422
CREATED:20230731T200619Z
LAST-MODIFIED:20230731T200619Z
UID:447-1694804400-1694808000@weneedprayer.com
SUMMARY:El - Shaddai San Antonio Eucharistic Revival
DESCRIPTION:Praise and Worship\, Healing Prayer\, Adoration of the blessed Sacrament \nOur Lady of Lourdes Grotto \nEvery 3rd Friday of the month at 7pm \n 
URL:https://weneedprayer.com/prayerrequests/event/el-shaddai-san-antonio-eucharistic-revival-2/
LOCATION:Our Lady of Lordes Grotto\, 5712 Blanco Rd.\, San Antonio\, TX\, 78216\, United States
ATTACH;FMTTYPE=image/jpeg:https://weneedprayer.com/prayerrequests/wp-content/uploads/2023/07/El-Shaddai.jpg
END:VEVENT
BEGIN:VEVENT
DTSTART;TZID=Asia/Karachi:20230914T190000
DTEND;TZID=Asia/Karachi:20230914T200000
DTSTAMP:20260424T161422
CREATED:20230804T023334Z
LAST-MODIFIED:20230804T024254Z
UID:645-1694718000-1694721600@weneedprayer.com
SUMMARY:Adoration (Praise and Worship)
DESCRIPTION:Praise and worship reverently led by live music band before the blessed sacrament.\nIn the little chapel up the steps on the left. You may need someone to let you in.
URL:https://weneedprayer.com/prayerrequests/event/adoration-praise-and-worship-6/
LOCATION:St. Pius X\, 3303 Urban Crest\, San Antonio\, TX\, 78209\, United States
ATTACH;FMTTYPE=image/jpeg:https://weneedprayer.com/prayerrequests/wp-content/uploads/2023/08/St-Pius-X.jpg
END:VEVENT
BEGIN:VEVENT
DTSTART;TZID=Asia/Karachi:20230914T183000
DTEND;TZID=Asia/Karachi:20230914T210000
DTSTAMP:20260424T161422
CREATED:20230804T030633Z
LAST-MODIFIED:20230804T032359Z
UID:711-1694716200-1694725200@weneedprayer.com
SUMMARY:Celebrate Recovery
DESCRIPTION:Celebrate Recovery is a Christ-Centered\, 12-Step Program that offers healing and restoration for life’s hurts\, hang-ups\, and habits. Celebrate Recovery is a safe place to find community and freedom from the issues that are controlling our life. It offers practical life application to the sanctification process. \nHere is a link with more info: http://www.newhopeunitedchurch.org/celebrate-recovery
URL:https://weneedprayer.com/prayerrequests/event/celebrate-recovery-6/
LOCATION:New Hope United\, 13875 Higgins Road\, San Antonio\, TX\, 78217\, United States
ATTACH;FMTTYPE=image/jpeg:https://weneedprayer.com/prayerrequests/wp-content/uploads/2023/08/Celebrate-Recovery.jpg
END:VEVENT
BEGIN:VEVENT
DTSTART;TZID=Asia/Karachi:20230913T183000
DTEND;TZID=Asia/Karachi:20230913T200000
DTSTAMP:20260424T161422
CREATED:20230803T033217Z
LAST-MODIFIED:20230803T033217Z
UID:583-1694629800-1694635200@weneedprayer.com
SUMMARY:Harvest City Wednesday Night of Prayer
DESCRIPTION:If you are looking for a midweek place of worship Harvest City is currently meeting every Wednesday at 6:30pm.
URL:https://weneedprayer.com/prayerrequests/event/harvest-city-wednesday-night-of-prayer-6/
LOCATION:Harvest City\, 4906 Stahl Rd.\, San Antonio\, TX\, 78217\, United States
ATTACH;FMTTYPE=image/jpeg:https://weneedprayer.com/prayerrequests/wp-content/uploads/2023/08/Harvest-City.jpg
END:VEVENT
BEGIN:VEVENT
DTSTART;TZID=Asia/Karachi:20230912T113000
DTEND;TZID=Asia/Karachi:20230912T140000
DTSTAMP:20260424T161422
CREATED:20230807T131758Z
LAST-MODIFIED:20230807T131758Z
UID:923-1694518200-1694527200@weneedprayer.com
SUMMARY:Prayer\, Potluck\, & Play
DESCRIPTION:Adults of all ages gather to fellowship around lunch\, pray together\, and play favorite games! All are welcome! Tuesdays from 11:45 am-2:00 pm in the Creative Life Center (CLC) Grand Room. Led by Ann DeBarros.
URL:https://weneedprayer.com/prayerrequests/event/prayer-potluck-play-6/
LOCATION:Trinity Baptist\, 319 E. Mulberry\, San Antonio\, TX\, 78212\, United States
ATTACH;FMTTYPE=image/jpeg:https://weneedprayer.com/prayerrequests/wp-content/uploads/2023/08/PrayerPP.jpg
END:VEVENT
BEGIN:VEVENT
DTSTART;TZID=Asia/Karachi:20230908T193000
DTEND;TZID=Asia/Karachi:20230908T203000
DTSTAMP:20260424T161422
CREATED:20230806T134615Z
LAST-MODIFIED:20230806T135047Z
UID:858-1694201400-1694205000@weneedprayer.com
SUMMARY:Jacquelyn\, Mezzo-soprano and Samuel Gaskin\, organ
DESCRIPTION:Mezzo-soprano Jacquelyn Matava and organist Samuel Gaskin will present Sacred Song\, a recital of music celebrating the Christian\, Jewish\, and Hindu religions. Vierne’s Les Angélus\, Holst’s Vedic Hymns Book I\, selections from Darius Milhaud’s Poèmes juifs\, improvisations\, and other works by Purcell\, Dove\, and more. https://www.ccvichapel.org/schedule
URL:https://weneedprayer.com/prayerrequests/event/jacquelyn-mezzo-soprano-and-samuel-gaskin-organ/
LOCATION:Chapel of the Incarnate Word\, 4503 Broadway\, San Antonio\, TX\, 78209\, United States
ATTACH;FMTTYPE=image/jpeg:https://weneedprayer.com/prayerrequests/wp-content/uploads/2023/08/Jacquelyn-Mezzo-Samuel-Gaskin.jpg
END:VEVENT
BEGIN:VEVENT
DTSTART;TZID=Asia/Karachi:20230907T190000
DTEND;TZID=Asia/Karachi:20230907T200000
DTSTAMP:20260424T161422
CREATED:20230804T023310Z
LAST-MODIFIED:20230804T024258Z
UID:644-1694113200-1694116800@weneedprayer.com
SUMMARY:Adoration (Praise and Worship)
DESCRIPTION:Praise and worship reverently led by live music band before the blessed sacrament.\nIn the little chapel up the steps on the left. You may need someone to let you in.
URL:https://weneedprayer.com/prayerrequests/event/adoration-praise-and-worship-5/
LOCATION:St. Pius X\, 3303 Urban Crest\, San Antonio\, TX\, 78209\, United States
ATTACH;FMTTYPE=image/jpeg:https://weneedprayer.com/prayerrequests/wp-content/uploads/2023/08/St-Pius-X.jpg
END:VEVENT
BEGIN:VEVENT
DTSTART;TZID=Asia/Karachi:20230907T183000
DTEND;TZID=Asia/Karachi:20230907T210000
DTSTAMP:20260424T161422
CREATED:20230804T030621Z
LAST-MODIFIED:20230804T032348Z
UID:710-1694111400-1694120400@weneedprayer.com
SUMMARY:Celebrate Recovery
DESCRIPTION:Celebrate Recovery is a Christ-Centered\, 12-Step Program that offers healing and restoration for life’s hurts\, hang-ups\, and habits. Celebrate Recovery is a safe place to find community and freedom from the issues that are controlling our life. It offers practical life application to the sanctification process. \nHere is a link with more info: http://www.newhopeunitedchurch.org/celebrate-recovery
URL:https://weneedprayer.com/prayerrequests/event/celebrate-recovery-5/
LOCATION:New Hope United\, 13875 Higgins Road\, San Antonio\, TX\, 78217\, United States
ATTACH;FMTTYPE=image/jpeg:https://weneedprayer.com/prayerrequests/wp-content/uploads/2023/08/Celebrate-Recovery.jpg
END:VEVENT
BEGIN:VEVENT
DTSTART;TZID=Asia/Karachi:20230906T190000
DTEND;TZID=Asia/Karachi:20230906T220000
DTSTAMP:20260424T161422
CREATED:20230731T225852Z
LAST-MODIFIED:20230801T154954Z
UID:532-1694026800-1694037600@weneedprayer.com
SUMMARY:Fight Club (Being Sons Campfire)
DESCRIPTION:Step off the front lines and share a fire with men who want more of the life Jesus offers. It’s monthly. It’s free. It’s for men. https://www.beingsons.com/events/fight-club-9-6-23 \nTo get the specific address just contact Info@beingsons.com
URL:https://weneedprayer.com/prayerrequests/event/fight-club-being-sons-campfire/
LOCATION:Fight Club at Steubing Ranch\, San Antonio\, TX\, 78247\, United States
ATTACH;FMTTYPE=image/jpeg:https://weneedprayer.com/prayerrequests/wp-content/uploads/2023/07/Fight-Club.jpg
ORGANIZER;CN="Jay Heck":MAILTO:Info@beingsons.com
END:VEVENT
BEGIN:VEVENT
DTSTART;TZID=Asia/Karachi:20230906T183000
DTEND;TZID=Asia/Karachi:20230906T200000
DTSTAMP:20260424T161422
CREATED:20230803T033211Z
LAST-MODIFIED:20230803T033211Z
UID:582-1694025000-1694030400@weneedprayer.com
SUMMARY:Harvest City Wednesday Night of Prayer
DESCRIPTION:If you are looking for a midweek place of worship Harvest City is currently meeting every Wednesday at 6:30pm.
URL:https://weneedprayer.com/prayerrequests/event/harvest-city-wednesday-night-of-prayer-5/
LOCATION:Harvest City\, 4906 Stahl Rd.\, San Antonio\, TX\, 78217\, United States
ATTACH;FMTTYPE=image/jpeg:https://weneedprayer.com/prayerrequests/wp-content/uploads/2023/08/Harvest-City.jpg
END:VEVENT
BEGIN:VEVENT
DTSTART;TZID=Asia/Karachi:20230906T183000
DTEND;TZID=Asia/Karachi:20230906T200000
DTSTAMP:20260424T161422
CREATED:20230731T211353Z
LAST-MODIFIED:20230731T211353Z
UID:476-1694025000-1694030400@weneedprayer.com
SUMMARY:Overflow
DESCRIPTION:Join us every FIRST Wednesday of the month for Overflow!  \nWe have an amazing time of fellowship & learning the Word of God. \nDinner is served @ 6:30pm \nService starts @ 7:15pm
URL:https://weneedprayer.com/prayerrequests/event/overflow-2/
LOCATION:Compassion Church\, 2862 Thousand Oaks\, San Antonio\, TX\, 78232\, United States
ATTACH;FMTTYPE=image/jpeg:https://weneedprayer.com/prayerrequests/wp-content/uploads/2023/07/Overflow.jpg
END:VEVENT
BEGIN:VEVENT
DTSTART;TZID=Asia/Karachi:20230905T190000
DTEND;TZID=Asia/Karachi:20230905T200000
DTSTAMP:20260424T161422
CREATED:20230731T215206Z
LAST-MODIFIED:20230731T215206Z
UID:498-1693940400-1693944000@weneedprayer.com
SUMMARY:Monthly Prayer Gathering
DESCRIPTION:Join us for a monthly prayer gathering. For more details\, or to sign up to be a part of our prayer team\, head to this link- \nhttps://stoneoakbible.churchcenter.com/unproxy/groups/unique/prayer-team
URL:https://weneedprayer.com/prayerrequests/event/monthly-prayer-gathering-2/
LOCATION:Stone Oak Bile Church\, 27214 Salt St\, San Antonio\, TX\, 78260\, United States
ATTACH;FMTTYPE=image/jpeg:https://weneedprayer.com/prayerrequests/wp-content/uploads/2023/07/Stone-Oak-Bible-Church.jpg
END:VEVENT
BEGIN:VEVENT
DTSTART;TZID=Asia/Karachi:20230905T103000
DTEND;TZID=Asia/Karachi:20230905T140000
DTSTAMP:20260424T161422
CREATED:20230807T131739Z
LAST-MODIFIED:20230807T131739Z
UID:922-1693909800-1693922400@weneedprayer.com
SUMMARY:Prayer\, Potluck\, & Play
DESCRIPTION:Adults of all ages gather to fellowship around lunch\, pray together\, and play favorite games! All are welcome! Tuesdays from 11:45 am-2:00 pm in the Creative Life Center (CLC) Grand Room. Led by Ann DeBarros.
URL:https://weneedprayer.com/prayerrequests/event/prayer-potluck-play-5/
LOCATION:Trinity Baptist\, 319 E. Mulberry\, San Antonio\, TX\, 78212\, United States
ATTACH;FMTTYPE=image/jpeg:https://weneedprayer.com/prayerrequests/wp-content/uploads/2023/08/PrayerPP.jpg
END:VEVENT
BEGIN:VEVENT
DTSTART;TZID=Asia/Karachi:20230904T190000
DTEND;TZID=Asia/Karachi:20230904T200000
DTSTAMP:20260424T161422
CREATED:20230804T225351Z
LAST-MODIFIED:20230804T225351Z
UID:771-1693854000-1693857600@weneedprayer.com
SUMMARY:Spanish Prayer Group Meeting
DESCRIPTION:Every 1st and 3rd MONDAY Fr. Paul Melgarejo\, Deacons Vela and Guzman HOLY HOUR IN “SPANISH” from 7 to 8 PM. EVERYONE IS WELCOME! Call Mrs. Rosario Esquivel at (210) 966-5342 for any questions.\nhttps://stmatts.org/events/spanish-prayer-group-meeting
URL:https://weneedprayer.com/prayerrequests/event/spanish-prayer-group-meeting-3/
LOCATION:St. Matthew\, 10703 Wurzbach Rd.\, San Antonio\, TX\, 78230\, United States
ATTACH;FMTTYPE=image/jpeg:https://weneedprayer.com/prayerrequests/wp-content/uploads/2023/08/Spanish-Prayer-Group.jpg
END:VEVENT
BEGIN:VEVENT
DTSTART;TZID=Asia/Karachi:20230901T180000
DTEND;TZID=Asia/Karachi:20230901T200000
DTSTAMP:20260424T161422
CREATED:20230804T214213Z
LAST-MODIFIED:20230804T214213Z
UID:753-1693591200-1693598400@weneedprayer.com
SUMMARY:First Friday Holy Hour and Benediction
DESCRIPTION:Join us in the main church for adoration and benediction.
URL:https://weneedprayer.com/prayerrequests/event/first-friday-holy-hour-and-benediction/
LOCATION:Good Sheperd\, 1065 E Live Oak Rd\, Schertz\, TX\, 78154\, United States
ATTACH;FMTTYPE=image/jpeg:https://weneedprayer.com/prayerrequests/wp-content/uploads/2023/08/Good-Shepherd.jpg
END:VEVENT
BEGIN:VEVENT
DTSTART;TZID=Asia/Karachi:20230901T160000
DTEND;TZID=Asia/Karachi:20230901T170000
DTSTAMP:20260424T161422
CREATED:20230731T204705Z
LAST-MODIFIED:20230731T204825Z
UID:460-1693584000-1693587600@weneedprayer.com
SUMMARY:Family Adoration
DESCRIPTION:Family Adoration inside the church\nStarts at 415pm to 445pm\nEvery 1st Friday of the Month
URL:https://weneedprayer.com/prayerrequests/event/family-adoration/
LOCATION:Holy Trinity\, 20523 Huebner Road\, San Antonio\, TX\, 78258\, United States
ATTACH;FMTTYPE=image/jpeg:https://weneedprayer.com/prayerrequests/wp-content/uploads/2023/07/Holy-Trinity.jpg
END:VEVENT
BEGIN:VEVENT
DTSTART;TZID=Asia/Karachi:20230831T190000
DTEND;TZID=Asia/Karachi:20230831T200000
DTSTAMP:20260424T161422
CREATED:20230804T023253Z
LAST-MODIFIED:20230804T024303Z
UID:643-1693508400-1693512000@weneedprayer.com
SUMMARY:Adoration (Praise and Worship)
DESCRIPTION:Praise and worship reverently led by live music band before the blessed sacrament.\nIn the little chapel up the steps on the left. You may need someone to let you in.
URL:https://weneedprayer.com/prayerrequests/event/adoration-praise-and-worship-4/
LOCATION:St. Pius X\, 3303 Urban Crest\, San Antonio\, TX\, 78209\, United States
ATTACH;FMTTYPE=image/jpeg:https://weneedprayer.com/prayerrequests/wp-content/uploads/2023/08/St-Pius-X.jpg
END:VEVENT
BEGIN:VEVENT
DTSTART;TZID=Asia/Karachi:20230831T183000
DTEND;TZID=Asia/Karachi:20230831T210000
DTSTAMP:20260424T161422
CREATED:20230804T030444Z
LAST-MODIFIED:20230804T032338Z
UID:709-1693506600-1693515600@weneedprayer.com
SUMMARY:Celebrate Recovery
DESCRIPTION:Celebrate Recovery is a Christ-Centered\, 12-Step Program that offers healing and restoration for life’s hurts\, hang-ups\, and habits. Celebrate Recovery is a safe place to find community and freedom from the issues that are controlling our life. It offers practical life application to the sanctification process. \nHere is a link with more info: http://www.newhopeunitedchurch.org/celebrate-recovery
URL:https://weneedprayer.com/prayerrequests/event/celebrate-recovery-4/
LOCATION:New Hope United\, 13875 Higgins Road\, San Antonio\, TX\, 78217\, United States
ATTACH;FMTTYPE=image/jpeg:https://weneedprayer.com/prayerrequests/wp-content/uploads/2023/08/Celebrate-Recovery.jpg
END:VEVENT
BEGIN:VEVENT
DTSTART;TZID=Asia/Karachi:20230831T170000
DTEND;TZID=Asia/Karachi:20230831T190000
DTSTAMP:20260424T161422
CREATED:20230723T055803Z
LAST-MODIFIED:20230826T034044Z
UID:414-1693501200-1693508400@weneedprayer.com
SUMMARY:We Need Prayer Ministry Meetup for Prayer
DESCRIPTION:Meetup for Prayer at Lady Bird Johnson Park for an ongoing Public Prayer Ministry where we will be specifically focusing on pre determined needs for prayer in the world\, as well as any special prayer intentions that you may have. \nWe will be praying for: Faithfulness\, Devotion\, Obedience\, Hope\, and Loyalty \nSo if you or someone you know is troubled\, lacking\, or has some room for improvement in these areas\,\nthen come by and hangout with us for a nice little outdoor time of prayer and worship. \nWe will be somewhere in the parking lot outside the Hamilton Community Center to meetup for prayer\nYou can contact us Here\, Here\, or Here for more information. \nEvent Host website https://weneedprayer.com/
URL:https://weneedprayer.com/prayerrequests/event/we-need-prayer-ministry-meetup-for-prayer-2/
LOCATION:Lady Bird Johnson Park\, 10700 Nacogdoches Rd.\, San Antonio\, TX\, 78217\, United States
ATTACH;FMTTYPE=image/jpeg:https://weneedprayer.com/prayerrequests/wp-content/uploads/2023/07/Event-Listing-Image.jpg
ORGANIZER;CN="Edmund Olszewski":MAILTO:info@weneedprayer.com
END:VEVENT
END:VCALENDAR